BEGIN:VCALENDAR
VERSION:2.0
PRODID:-//@america - ECPv6.11.2.1//NONSGML v1.0//EN
CALSCALE:GREGORIAN
METHOD:PUBLISH
X-WR-CALNAME:@america
X-ORIGINAL-URL:https://atamerica.or.id
X-WR-CALDESC:Events for @america
REFRESH-INTERVAL;VALUE=DURATION:PT1H
X-Robots-Tag:noindex
X-PUBLISHED-TTL:PT1H
BEGIN:VTIMEZONE
TZID:Asia/Krasnoyarsk
BEGIN:STANDARD
TZOFFSETFROM:+0700
TZOFFSETTO:+0700
TZNAME:+07
DTSTART:20250101T000000
END:STANDARD
END:VTIMEZONE
BEGIN:VEVENT
DTSTART;TZID=Asia/Krasnoyarsk:20250611T190000
DTEND;TZID=Asia/Krasnoyarsk:20250611T203000
DTSTAMP:20260424T040417
CREATED:20250603T085136Z
LAST-MODIFIED:20250605T092234Z
UID:31483-1749668400-1749673800@atamerica.or.id
SUMMARY:@america Academy: Make Your Sketchbook Alive! (Part 1 of 2)
DESCRIPTION:
URL:https://atamerica.or.id/event/america-academy-make-your-sketchbook-alive-part-1-of-2-2/
LOCATION:@america\, Pacific Place\, @america\, Pacific Place Mall 3rd Floor Jakarta Selatan
CATEGORIES:Keterampilan Bisnis dan Karir
ATTACH;FMTTYPE=image/jpeg:https://atamerica.or.id/wp-content/uploads/2025/06/11-June-@america-Academy-Make-Your-Sketchbook-Alive_Part-1-of-2_Thumbnail_REV1.jpg
END:VEVENT
END:VCALENDAR