BEGIN:VCALENDAR
VERSION:2.0
PRODID:-//@america - ECPv6.11.2.1//NONSGML v1.0//EN
CALSCALE:GREGORIAN
METHOD:PUBLISH
X-WR-CALNAME:@america
X-ORIGINAL-URL:https://atamerica.or.id
X-WR-CALDESC:Events for @america
REFRESH-INTERVAL;VALUE=DURATION:PT1H
X-Robots-Tag:noindex
X-PUBLISHED-TTL:PT1H
BEGIN:VTIMEZONE
TZID:Asia/Krasnoyarsk
BEGIN:STANDARD
TZOFFSETFROM:+0700
TZOFFSETTO:+0700
TZNAME:+07
DTSTART:20250101T000000
END:STANDARD
END:VTIMEZONE
BEGIN:VEVENT
DTSTART;TZID=Asia/Krasnoyarsk:20250522T190000
DTEND;TZID=Asia/Krasnoyarsk:20250522T203000
DTSTAMP:20260425T015521
CREATED:20250513T075559Z
LAST-MODIFIED:20250513T075819Z
UID:29635-1747940400-1747945800@atamerica.or.id
SUMMARY:@america Academy: Turn Numbers into Insights with Google Sheets (Part 2 of 2)
DESCRIPTION:
URL:https://atamerica.or.id/event/america-academy-turn-numbers-into-insights-with-google-sheets-part-2-of-2/
LOCATION:@america\, Pacific Place\, @america\, Pacific Place Mall 3rd Floor Jakarta Selatan
CATEGORIES:Science and Technology
ATTACH;FMTTYPE=image/jpeg:https://atamerica.or.id/wp-content/uploads/2025/05/22-May-@america-Academy-Turn-Numbers-into-Insights-with-Google-Sheets_Part-2-of-2_Thumbnail-1.jpg
END:VEVENT
END:VCALENDAR