BEGIN:VCALENDAR
VERSION:2.0
PRODID:-//@america - ECPv6.11.2.1//NONSGML v1.0//EN
CALSCALE:GREGORIAN
METHOD:PUBLISH
X-WR-CALNAME:@america
X-ORIGINAL-URL:https://atamerica.or.id
X-WR-CALDESC:Events for @america
REFRESH-INTERVAL;VALUE=DURATION:PT1H
X-Robots-Tag:noindex
X-PUBLISHED-TTL:PT1H
BEGIN:VTIMEZONE
TZID:Asia/Krasnoyarsk
BEGIN:STANDARD
TZOFFSETFROM:+0700
TZOFFSETTO:+0700
TZNAME:+07
DTSTART:20250101T000000
END:STANDARD
END:VTIMEZONE
BEGIN:VEVENT
DTSTART;TZID=Asia/Krasnoyarsk:20250823T103000
DTEND;TZID=Asia/Krasnoyarsk:20250823T120000
DTSTAMP:20260424T011243
CREATED:20250812T122442Z
LAST-MODIFIED:20250823T060122Z
UID:38041-1755945000-1755950400@atamerica.or.id
SUMMARY:Baca@america: Great Big Beautiful Life
DESCRIPTION:
URL:https://atamerica.or.id/event/bacaamerica-great-big-beautiful-life/
LOCATION:@america\, Pacific Place\, @america\, Pacific Place Mall 3rd Floor Jakarta Selatan
CATEGORIES:English Language Learning
ATTACH;FMTTYPE=image/jpeg:https://atamerica.or.id/wp-content/uploads/2025/08/23-August-Baca@america-Great-Big-Beautiful-Life_Thumbnail.jpg
END:VEVENT
END:VCALENDAR