BEGIN:VCALENDAR
VERSION:2.0
PRODID:-//@america - ECPv6.11.2.1//NONSGML v1.0//EN
CALSCALE:GREGORIAN
METHOD:PUBLISH
X-WR-CALNAME:@america
X-ORIGINAL-URL:https://atamerica.or.id
X-WR-CALDESC:Events for @america
REFRESH-INTERVAL;VALUE=DURATION:PT1H
X-Robots-Tag:noindex
X-PUBLISHED-TTL:PT1H
BEGIN:VTIMEZONE
TZID:Asia/Krasnoyarsk
BEGIN:STANDARD
TZOFFSETFROM:+0700
TZOFFSETTO:+0700
TZNAME:+07
DTSTART:20250101T000000
END:STANDARD
END:VTIMEZONE
BEGIN:VEVENT
DTSTART;TZID=Asia/Krasnoyarsk:20250614T133000
DTEND;TZID=Asia/Krasnoyarsk:20250614T150000
DTSTAMP:20260422T225229
CREATED:20250520T065126Z
LAST-MODIFIED:20250618T070151Z
UID:30213-1749907800-1749913200@atamerica.or.id
SUMMARY:Baca@america: Meet the Author
DESCRIPTION:
URL:https://atamerica.or.id/event/bacaamerica-meet-the-author/
LOCATION:@america\, Pacific Place\, @america\, Pacific Place Mall 3rd Floor Jakarta Selatan
CATEGORIES:English Language Learning
ATTACH;FMTTYPE=image/jpeg:https://atamerica.or.id/wp-content/uploads/2025/05/14-June-Baca@america-Meet-the-Author_Thumbnail.jpg
END:VEVENT
END:VCALENDAR