BEGIN:VCALENDAR
VERSION:2.0
PRODID:-//@america - ECPv6.11.2.1//NONSGML v1.0//EN
CALSCALE:GREGORIAN
METHOD:PUBLISH
X-WR-CALNAME:@america
X-ORIGINAL-URL:https://atamerica.or.id
X-WR-CALDESC:Events for @america
REFRESH-INTERVAL;VALUE=DURATION:PT1H
X-Robots-Tag:noindex
X-PUBLISHED-TTL:PT1H
BEGIN:VTIMEZONE
TZID:Asia/Krasnoyarsk
BEGIN:STANDARD
TZOFFSETFROM:+0700
TZOFFSETTO:+0700
TZNAME:+07
DTSTART:20260101T000000
END:STANDARD
END:VTIMEZONE
BEGIN:VEVENT
DTSTART;TZID=Asia/Krasnoyarsk:20260314T160000
DTEND;TZID=Asia/Krasnoyarsk:20260314T180000
DTSTAMP:20260425T015002
CREATED:20260226T070219Z
LAST-MODIFIED:20260306T071232Z
UID:58915-1773504000-1773511200@atamerica.or.id
SUMMARY:Baca@america: Pre-Iftar Reading Session
DESCRIPTION:
URL:https://atamerica.or.id/event/bacaamerica-pre-iftar-reading-session-2/
LOCATION:@america\, Pacific Place\, @america\, Pacific Place Mall 3rd Floor Jakarta Selatan
CATEGORIES:Musik, Seni, dan Budaya
ATTACH;FMTTYPE=image/jpeg:https://atamerica.or.id/wp-content/uploads/2026/02/14-March-Baca@america-Pre-Iftar-Reading-Session_Thumbnail.jpg
END:VEVENT
END:VCALENDAR