BEGIN:VCALENDAR
VERSION:2.0
PRODID:-//@america - ECPv6.11.2.1//NONSGML v1.0//EN
CALSCALE:GREGORIAN
METHOD:PUBLISH
X-WR-CALNAME:@america
X-ORIGINAL-URL:https://atamerica.or.id
X-WR-CALDESC:Events for @america
REFRESH-INTERVAL;VALUE=DURATION:PT1H
X-Robots-Tag:noindex
X-PUBLISHED-TTL:PT1H
BEGIN:VTIMEZONE
TZID:Asia/Krasnoyarsk
BEGIN:STANDARD
TZOFFSETFROM:+0700
TZOFFSETTO:+0700
TZNAME:+07
DTSTART:20240101T000000
END:STANDARD
END:VTIMEZONE
BEGIN:VEVENT
DTSTART;TZID=Asia/Krasnoyarsk:20241025T150000
DTEND;TZID=Asia/Krasnoyarsk:20241025T170000
DTSTAMP:20260424T082010
CREATED:20240920T092927Z
LAST-MODIFIED:20241015T073009Z
UID:12727-1729868400-1729875600@atamerica.or.id
SUMMARY:Brain Battle: Supercharge Your Smarts!
DESCRIPTION:
URL:https://atamerica.or.id/event/brain-battle-supercharge-your-smarts-2/
LOCATION:@america\, Pacific Place\, @america\, Pacific Place Mall 3rd Floor Jakarta Selatan
CATEGORIES:Pembelajaran Bahasa Inggris
ATTACH;FMTTYPE=image/jpeg:https://atamerica.or.id/wp-content/uploads/2024/09/25-October-Brain-Battle-Supercharge-Your-Smarts_Thumbnail.jpg
END:VEVENT
END:VCALENDAR