BEGIN:VCALENDAR
VERSION:2.0
PRODID:-//@america - ECPv6.11.2.1//NONSGML v1.0//EN
CALSCALE:GREGORIAN
METHOD:PUBLISH
X-WR-CALNAME:@america
X-ORIGINAL-URL:https://atamerica.or.id
X-WR-CALDESC:Events for @america
REFRESH-INTERVAL;VALUE=DURATION:PT1H
X-Robots-Tag:noindex
X-PUBLISHED-TTL:PT1H
BEGIN:VTIMEZONE
TZID:Asia/Krasnoyarsk
BEGIN:STANDARD
TZOFFSETFROM:+0700
TZOFFSETTO:+0700
TZNAME:+07
DTSTART:20250101T000000
END:STANDARD
END:VTIMEZONE
BEGIN:VEVENT
DTSTART;TZID=Asia/Krasnoyarsk:20251223T133000
DTEND;TZID=Asia/Krasnoyarsk:20260103T203000
DTSTAMP:20260424T164136
CREATED:20251218T090648Z
LAST-MODIFIED:20260106T025919Z
UID:50659-1766496600-1767472200@atamerica.or.id
SUMMARY:City That Never Sleeps: NYC in JKT
DESCRIPTION:
URL:https://atamerica.or.id/event/city-that-never-sleeps-nyc-in-jkt/
LOCATION:@america\, Pacific Place\, @america\, Pacific Place Mall 3rd Floor Jakarta Selatan
CATEGORIES:Music, Arts, and Culture
ATTACH;FMTTYPE=image/jpeg:https://atamerica.or.id/wp-content/uploads/2025/12/20-December-3-January-City-That-Never-Sleeps-NYC-in-JKT_Thumbnail.jpg
END:VEVENT
END:VCALENDAR