BEGIN:VCALENDAR
VERSION:2.0
PRODID:-//@america - ECPv6.11.2.1//NONSGML v1.0//EN
CALSCALE:GREGORIAN
METHOD:PUBLISH
X-WR-CALNAME:@america
X-ORIGINAL-URL:https://atamerica.or.id
X-WR-CALDESC:Events for @america
REFRESH-INTERVAL;VALUE=DURATION:PT1H
X-Robots-Tag:noindex
X-PUBLISHED-TTL:PT1H
BEGIN:VTIMEZONE
TZID:Asia/Krasnoyarsk
BEGIN:STANDARD
TZOFFSETFROM:+0700
TZOFFSETTO:+0700
TZNAME:+07
DTSTART:20240101T000000
END:STANDARD
END:VTIMEZONE
BEGIN:VEVENT
DTSTART;TZID=Asia/Krasnoyarsk:20241005T130000
DTEND;TZID=Asia/Krasnoyarsk:20241005T160000
DTSTAMP:20260424T231529
CREATED:20240815T085305Z
LAST-MODIFIED:20240820T060858Z
UID:8733-1728133200-1728144000@atamerica.or.id
SUMMARY:Consortium Law School Mini Expo 2024
DESCRIPTION:
URL:https://atamerica.or.id/event/consortium-law-school-mini-expo-2024-2/
LOCATION:@america\, Pacific Place\, @america\, Pacific Place Mall 3rd Floor Jakarta Selatan
CATEGORIES:Studi di AS, Pertukaran Pendidikan dan Beasiswa
ATTACH;FMTTYPE=image/jpeg:https://atamerica.or.id/wp-content/uploads/2024/06/6-June-Women-in-Finance-Financial-Inclusion-for-Everyone_Thumbnail.jpg
END:VEVENT
END:VCALENDAR