BEGIN:VCALENDAR
VERSION:2.0
PRODID:-//@america - ECPv6.11.2.1//NONSGML v1.0//EN
CALSCALE:GREGORIAN
METHOD:PUBLISH
X-WR-CALNAME:@america
X-ORIGINAL-URL:https://atamerica.or.id
X-WR-CALDESC:Events for @america
REFRESH-INTERVAL;VALUE=DURATION:PT1H
X-Robots-Tag:noindex
X-PUBLISHED-TTL:PT1H
BEGIN:VTIMEZONE
TZID:Asia/Krasnoyarsk
BEGIN:STANDARD
TZOFFSETFROM:+0700
TZOFFSETTO:+0700
TZNAME:+07
DTSTART:20250101T000000
END:STANDARD
END:VTIMEZONE
BEGIN:VEVENT
DTSTART;TZID=Asia/Krasnoyarsk:20250906T130000
DTEND;TZID=Asia/Krasnoyarsk:20250906T150000
DTSTAMP:20260424T035830
CREATED:20250820T073738Z
LAST-MODIFIED:20250820T073738Z
UID:38789-1757163600-1757170800@atamerica.or.id
SUMMARY:Digital Sense: Youth\, Media\, and Responsible Engagement
DESCRIPTION:
URL:https://atamerica.or.id/event/digital-sense-youth-media-and-responsible-engagement-2/
LOCATION:@america\, Pacific Place\, @america\, Pacific Place Mall 3rd Floor Jakarta Selatan
CATEGORIES:Keterampilan Bisnis dan Karir
ATTACH;FMTTYPE=image/jpeg:https://atamerica.or.id/wp-content/uploads/2025/08/6-September-Digital-Sense-Youth-Media-and-Responsible-Engagement_Thumbnail.jpg
END:VEVENT
END:VCALENDAR