BEGIN:VCALENDAR
VERSION:2.0
PRODID:-//@america - ECPv6.11.2.1//NONSGML v1.0//EN
CALSCALE:GREGORIAN
METHOD:PUBLISH
X-WR-CALNAME:@america
X-ORIGINAL-URL:https://atamerica.or.id
X-WR-CALDESC:Events for @america
REFRESH-INTERVAL;VALUE=DURATION:PT1H
X-Robots-Tag:noindex
X-PUBLISHED-TTL:PT1H
BEGIN:VTIMEZONE
TZID:Asia/Krasnoyarsk
BEGIN:STANDARD
TZOFFSETFROM:+0700
TZOFFSETTO:+0700
TZNAME:+07
DTSTART:20250101T000000
END:STANDARD
END:VTIMEZONE
BEGIN:VEVENT
DTSTART;TZID=Asia/Krasnoyarsk:20250221T133000
DTEND;TZID=Asia/Krasnoyarsk:20250221T150000
DTSTAMP:20260425T015131
CREATED:20250212T104217Z
LAST-MODIFIED:20250212T104217Z
UID:22219-1740144600-1740150000@atamerica.or.id
SUMMARY:Empowering the Future: MICE Ecosystems for Global Collaboration
DESCRIPTION:
URL:https://atamerica.or.id/event/empowering-the-future-mice-ecosystems-for-global-collaboration-2/
LOCATION:@america\, Pacific Place\, @america\, Pacific Place Mall 3rd Floor Jakarta Selatan
CATEGORIES:Ilmu Pengetahuan dan Teknologi
ATTACH;FMTTYPE=image/jpeg:https://atamerica.or.id/wp-content/uploads/2025/02/21-February-Empowering-the-Future-MICE-Ecosystems-for-Global-Collaboration_Thumbnail.jpg
END:VEVENT
END:VCALENDAR