BEGIN:VCALENDAR
VERSION:2.0
PRODID:-//@america - ECPv6.11.2.1//NONSGML v1.0//EN
CALSCALE:GREGORIAN
METHOD:PUBLISH
X-WR-CALNAME:@america
X-ORIGINAL-URL:https://atamerica.or.id
X-WR-CALDESC:Events for @america
REFRESH-INTERVAL;VALUE=DURATION:PT1H
X-Robots-Tag:noindex
X-PUBLISHED-TTL:PT1H
BEGIN:VTIMEZONE
TZID:Asia/Krasnoyarsk
BEGIN:STANDARD
TZOFFSETFROM:+0700
TZOFFSETTO:+0700
TZNAME:+07
DTSTART:20260101T000000
END:STANDARD
END:VTIMEZONE
BEGIN:VEVENT
DTSTART;TZID=Asia/Krasnoyarsk:20260314T130000
DTEND;TZID=Asia/Krasnoyarsk:20260314T150000
DTSTAMP:20260424T205707
CREATED:20260304T065933Z
LAST-MODIFIED:20260324T052640Z
UID:59690-1773493200-1773500400@atamerica.or.id
SUMMARY:From Idea to Impact: Building a Purpose-Driven App
DESCRIPTION:
URL:https://atamerica.or.id/event/from-idea-to-impact-building-a-purpose-driven-app/
LOCATION:@america\, Pacific Place\, @america\, Pacific Place Mall 3rd Floor Jakarta Selatan
CATEGORIES:Science and Technology
ATTACH;FMTTYPE=image/jpeg:https://atamerica.or.id/wp-content/uploads/2026/03/14-March-From-Idea-to-Impact-Building-a-Purpose-Driven-App_Thumbnail.jpg
END:VEVENT
END:VCALENDAR