BEGIN:VCALENDAR
VERSION:2.0
PRODID:-//@america - ECPv6.11.2.1//NONSGML v1.0//EN
CALSCALE:GREGORIAN
METHOD:PUBLISH
X-WR-CALNAME:@america
X-ORIGINAL-URL:https://atamerica.or.id
X-WR-CALDESC:Events for @america
REFRESH-INTERVAL;VALUE=DURATION:PT1H
X-Robots-Tag:noindex
X-PUBLISHED-TTL:PT1H
BEGIN:VTIMEZONE
TZID:Asia/Krasnoyarsk
BEGIN:STANDARD
TZOFFSETFROM:+0700
TZOFFSETTO:+0700
TZNAME:+07
DTSTART:20250101T000000
END:STANDARD
END:VTIMEZONE
BEGIN:VEVENT
DTSTART;TZID=Asia/Krasnoyarsk:20250717T133000
DTEND;TZID=Asia/Krasnoyarsk:20250717T153000
DTSTAMP:20260425T001255
CREATED:20250709T061328Z
LAST-MODIFIED:20250711T061503Z
UID:35484-1752759000-1752766200@atamerica.or.id
SUMMARY:Google Cloud’s Expanded Commitment to Indonesia: Bolstering Cyber Resilience with AI-Powered Security Operations
DESCRIPTION:
URL:https://atamerica.or.id/event/google-clouds-expanded-commitment-to-indonesia-bolstering-cyber-resilience-with-ai-powered-security-operations/
LOCATION:@america\, Pacific Place\, @america\, Pacific Place Mall 3rd Floor Jakarta Selatan
CATEGORIES:Science and Technology
ATTACH;FMTTYPE=image/jpeg:https://atamerica.or.id/wp-content/uploads/2025/07/17-July-Google-Clouds-Expanded-Commitment-to-Indonesia-Bolstering-Cyber-Resilience-with-AI-Powered-Security-Operations_Thumbnail.jpg
END:VEVENT
END:VCALENDAR