BEGIN:VCALENDAR
VERSION:2.0
PRODID:-//@america - ECPv6.11.2.1//NONSGML v1.0//EN
CALSCALE:GREGORIAN
METHOD:PUBLISH
X-WR-CALNAME:@america
X-ORIGINAL-URL:https://atamerica.or.id
X-WR-CALDESC:Events for @america
REFRESH-INTERVAL;VALUE=DURATION:PT1H
X-Robots-Tag:noindex
X-PUBLISHED-TTL:PT1H
BEGIN:VTIMEZONE
TZID:Asia/Krasnoyarsk
BEGIN:STANDARD
TZOFFSETFROM:+0700
TZOFFSETTO:+0700
TZNAME:+07
DTSTART:20260101T000000
END:STANDARD
END:VTIMEZONE
BEGIN:VEVENT
DTSTART;TZID=Asia/Krasnoyarsk:20260117T190000
DTEND;TZID=Asia/Krasnoyarsk:20260117T203000
DTSTAMP:20260425T065729
CREATED:20260110T101233Z
LAST-MODIFIED:20260113T031817Z
UID:52599-1768676400-1768681800@atamerica.or.id
SUMMARY:Karaoke@america: I'm Wicked\, Through and Through!
DESCRIPTION:
URL:https://atamerica.or.id/event/karaokeamerica-im-wicked-through-and-through/
LOCATION:@america\, Pacific Place\, @america\, Pacific Place Mall 3rd Floor Jakarta Selatan
CATEGORIES:Music, Arts, and Culture
ATTACH;FMTTYPE=image/jpeg:https://atamerica.or.id/wp-content/uploads/2026/01/17-January-Karaoke@america-Im-Wicked-Through-and-Through_Thumbnail.jpg
END:VEVENT
END:VCALENDAR