BEGIN:VCALENDAR
VERSION:2.0
PRODID:-//@america - ECPv6.11.2.1//NONSGML v1.0//EN
CALSCALE:GREGORIAN
METHOD:PUBLISH
X-WR-CALNAME:@america
X-ORIGINAL-URL:https://atamerica.or.id
X-WR-CALDESC:Events for @america
REFRESH-INTERVAL;VALUE=DURATION:PT1H
X-Robots-Tag:noindex
X-PUBLISHED-TTL:PT1H
BEGIN:VTIMEZONE
TZID:Asia/Krasnoyarsk
BEGIN:STANDARD
TZOFFSETFROM:+0700
TZOFFSETTO:+0700
TZNAME:+07
DTSTART:20260101T000000
END:STANDARD
END:VTIMEZONE
BEGIN:VEVENT
DTSTART;TZID=Asia/Krasnoyarsk:20260305T100000
DTEND;TZID=Asia/Krasnoyarsk:20260305T173000
DTSTAMP:20260423T214058
CREATED:20260225T153423Z
LAST-MODIFIED:20260225T153524Z
UID:58865-1772704800-1772731800@atamerica.or.id
SUMMARY:Live from the USA: Indonesian Teacher’s Ramadan Diaries
DESCRIPTION:
URL:https://atamerica.or.id/event/live-from-the-usa-indonesian-teachers-ramadan-diaries-2/
LOCATION:@america\, Pacific Place\, @america\, Pacific Place Mall 3rd Floor Jakarta Selatan
CATEGORIES:Studi di AS, Pertukaran Pendidikan dan Beasiswa
ATTACH;FMTTYPE=image/jpeg:https://atamerica.or.id/wp-content/uploads/2026/02/5-March-Live-From-the-USA-Indonesian-Teachers-Ramadan-Diaries_Thumbnail.jpg
END:VEVENT
END:VCALENDAR