BEGIN:VCALENDAR
VERSION:2.0
PRODID:-//@america - ECPv6.11.2.1//NONSGML v1.0//EN
CALSCALE:GREGORIAN
METHOD:PUBLISH
X-WR-CALNAME:@america
X-ORIGINAL-URL:https://atamerica.or.id
X-WR-CALDESC:Events for @america
REFRESH-INTERVAL;VALUE=DURATION:PT1H
X-Robots-Tag:noindex
X-PUBLISHED-TTL:PT1H
BEGIN:VTIMEZONE
TZID:Asia/Krasnoyarsk
BEGIN:STANDARD
TZOFFSETFROM:+0700
TZOFFSETTO:+0700
TZNAME:+07
DTSTART:20240101T000000
END:STANDARD
END:VTIMEZONE
BEGIN:VEVENT
DTSTART;TZID=Asia/Krasnoyarsk:20241107T100000
DTEND;TZID=Asia/Krasnoyarsk:20241107T180000
DTSTAMP:20260424T042021
CREATED:20241025T081151Z
LAST-MODIFIED:20241025T081241Z
UID:15928-1730973600-1731002400@atamerica.or.id
SUMMARY:Live from the USA: Yale in the Fall!
DESCRIPTION:
URL:https://atamerica.or.id/event/live-from-the-usa-yale-in-the-fall-2/
LOCATION:@america\, Pacific Place\, @america\, Pacific Place Mall 3rd Floor Jakarta Selatan
CATEGORIES:Studi di AS, Pertukaran Pendidikan dan Beasiswa
ATTACH;FMTTYPE=image/jpeg:https://atamerica.or.id/wp-content/uploads/2024/10/7-November-Live-From-the-USA-Yale-in-the-Fall_Thumbnail.jpg
END:VEVENT
END:VCALENDAR