BEGIN:VCALENDAR
VERSION:2.0
PRODID:-//@america - ECPv6.11.2.1//NONSGML v1.0//EN
CALSCALE:GREGORIAN
METHOD:PUBLISH
X-WR-CALNAME:@america
X-ORIGINAL-URL:https://atamerica.or.id
X-WR-CALDESC:Events for @america
REFRESH-INTERVAL;VALUE=DURATION:PT1H
X-Robots-Tag:noindex
X-PUBLISHED-TTL:PT1H
BEGIN:VTIMEZONE
TZID:Asia/Krasnoyarsk
BEGIN:STANDARD
TZOFFSETFROM:+0700
TZOFFSETTO:+0700
TZNAME:+07
DTSTART:20260101T000000
END:STANDARD
END:VTIMEZONE
BEGIN:VEVENT
DTSTART;TZID=Asia/Krasnoyarsk:20260310T190000
DTEND;TZID=Asia/Krasnoyarsk:20260310T203000
DTSTAMP:20260423T222421
CREATED:20260306T062046Z
LAST-MODIFIED:20260306T062144Z
UID:59844-1773169200-1773174600@atamerica.or.id
SUMMARY:Metropolitan Toastmasters: Fast\, Pray\, Love: A Month of Blessings
DESCRIPTION:
URL:https://atamerica.or.id/event/metropolitan-toastmasters-fast-pray-love-a-month-of-blessings-2/
LOCATION:@america\, Pacific Place\, @america\, Pacific Place Mall 3rd Floor Jakarta Selatan
CATEGORIES:Pembelajaran Bahasa Inggris
ATTACH;FMTTYPE=image/jpeg:https://atamerica.or.id/wp-content/uploads/2026/03/10-March-Metropolitan-Toastmasters-Fast-Pray-Love-A-Month-of-Blessings_Thumbnail.jpg
END:VEVENT
END:VCALENDAR