BEGIN:VCALENDAR
VERSION:2.0
PRODID:-//@america - ECPv6.11.2.1//NONSGML v1.0//EN
CALSCALE:GREGORIAN
METHOD:PUBLISH
X-WR-CALNAME:@america
X-ORIGINAL-URL:https://atamerica.or.id
X-WR-CALDESC:Events for @america
REFRESH-INTERVAL;VALUE=DURATION:PT1H
X-Robots-Tag:noindex
X-PUBLISHED-TTL:PT1H
BEGIN:VTIMEZONE
TZID:Asia/Krasnoyarsk
BEGIN:STANDARD
TZOFFSETFROM:+0700
TZOFFSETTO:+0700
TZNAME:+07
DTSTART:20240101T000000
END:STANDARD
END:VTIMEZONE
BEGIN:VEVENT
DTSTART;TZID=Asia/Krasnoyarsk:20241126T190000
DTEND;TZID=Asia/Krasnoyarsk:20241126T203000
DTSTAMP:20260424T082142
CREATED:20241107T064843Z
LAST-MODIFIED:20241107T064843Z
UID:16658-1732647600-1732653000@atamerica.or.id
SUMMARY:Metropolitan Toastmasters: Give Love\, Give Blessings
DESCRIPTION:
URL:https://atamerica.or.id/event/metropolitan-toastmasters-give-love-give-blessings-2/
LOCATION:@america\, Pacific Place\, @america\, Pacific Place Mall 3rd Floor Jakarta Selatan
CATEGORIES:Pembelajaran Bahasa Inggris
ATTACH;FMTTYPE=image/jpeg:https://atamerica.or.id/wp-content/uploads/2024/11/14-November-@america-Academy-Introduction-to-Presentation-Content-and-Techniques_Thumbnail.jpg
END:VEVENT
END:VCALENDAR