BEGIN:VCALENDAR
VERSION:2.0
PRODID:-//@america - ECPv6.11.2.1//NONSGML v1.0//EN
CALSCALE:GREGORIAN
METHOD:PUBLISH
X-WR-CALNAME:@america
X-ORIGINAL-URL:https://atamerica.or.id
X-WR-CALDESC:Events for @america
REFRESH-INTERVAL;VALUE=DURATION:PT1H
X-Robots-Tag:noindex
X-PUBLISHED-TTL:PT1H
BEGIN:VTIMEZONE
TZID:Asia/Krasnoyarsk
BEGIN:STANDARD
TZOFFSETFROM:+0700
TZOFFSETTO:+0700
TZNAME:+07
DTSTART:20250101T000000
END:STANDARD
END:VTIMEZONE
BEGIN:VEVENT
DTSTART;TZID=Asia/Krasnoyarsk:20250610T190000
DTEND;TZID=Asia/Krasnoyarsk:20250610T203000
DTSTAMP:20260424T053612
CREATED:20250603T070536Z
LAST-MODIFIED:20250603T070804Z
UID:31462-1749582000-1749587400@atamerica.or.id
SUMMARY:Metropolitan Toastmasters: Speak-a-thon - Round 4
DESCRIPTION:
URL:https://atamerica.or.id/event/metropolitan-toastmasters-speak-a-thon-round-4/
LOCATION:@america\, Pacific Place\, @america\, Pacific Place Mall 3rd Floor Jakarta Selatan
CATEGORIES:English Language Learning
ATTACH;FMTTYPE=image/jpeg:https://atamerica.or.id/wp-content/uploads/2025/06/10-June-Metropolitan-Toastmasters-Speak-a-thon-Round-4_Thumbnail.jpg
END:VEVENT
END:VCALENDAR