BEGIN:VCALENDAR
VERSION:2.0
PRODID:-//@america - ECPv6.11.2.1//NONSGML v1.0//EN
CALSCALE:GREGORIAN
METHOD:PUBLISH
X-WR-CALNAME:@america
X-ORIGINAL-URL:https://atamerica.or.id
X-WR-CALDESC:Events for @america
REFRESH-INTERVAL;VALUE=DURATION:PT1H
X-Robots-Tag:noindex
X-PUBLISHED-TTL:PT1H
BEGIN:VTIMEZONE
TZID:Asia/Krasnoyarsk
BEGIN:STANDARD
TZOFFSETFROM:+0700
TZOFFSETTO:+0700
TZNAME:+07
DTSTART:20240101T000000
END:STANDARD
END:VTIMEZONE
BEGIN:VEVENT
DTSTART;TZID=Asia/Krasnoyarsk:20240813T190000
DTEND;TZID=Asia/Krasnoyarsk:20240813T203000
DTSTAMP:20260424T123510
CREATED:20240724T123601Z
LAST-MODIFIED:20240729T084639Z
UID:6301-1723575600-1723581000@atamerica.or.id
SUMMARY:Metropolitan Toastmasters: Striving to Reach Indonesian Dreams
DESCRIPTION:
URL:https://atamerica.or.id/event/metropolitan-toastmasters-striving-to-reach-indonesian-dreams/
LOCATION:@america\, Pacific Place\, @america\, Pacific Place Mall 3rd Floor Jakarta Selatan
CATEGORIES:English Language Learning
ATTACH;FMTTYPE=image/jpeg:https://atamerica.or.id/wp-content/uploads/2024/07/13-August-Metropolitan-Toastmasters-Striving-to-Reach-Indonesian-Dreams_Thumbnail.jpg
END:VEVENT
END:VCALENDAR