BEGIN:VCALENDAR
VERSION:2.0
PRODID:-//@america - ECPv6.11.2.1//NONSGML v1.0//EN
CALSCALE:GREGORIAN
METHOD:PUBLISH
X-WR-CALNAME:@america
X-ORIGINAL-URL:https://atamerica.or.id
X-WR-CALDESC:Events for @america
REFRESH-INTERVAL;VALUE=DURATION:PT1H
X-Robots-Tag:noindex
X-PUBLISHED-TTL:PT1H
BEGIN:VTIMEZONE
TZID:Asia/Krasnoyarsk
BEGIN:STANDARD
TZOFFSETFROM:+0700
TZOFFSETTO:+0700
TZNAME:+07
DTSTART:20240101T000000
END:STANDARD
END:VTIMEZONE
BEGIN:VEVENT
DTSTART;TZID=Asia/Krasnoyarsk:20241217T190000
DTEND;TZID=Asia/Krasnoyarsk:20241217T203000
DTSTAMP:20260424T065323
CREATED:20241211T070633Z
LAST-MODIFIED:20241211T070633Z
UID:19552-1734462000-1734467400@atamerica.or.id
SUMMARY:Metropolitan Toastmasters: Wish to Santa
DESCRIPTION:
URL:https://atamerica.or.id/event/metropolitan-toastmasters-wish-to-santa-2/
LOCATION:@america\, Pacific Place\, @america\, Pacific Place Mall 3rd Floor Jakarta Selatan
CATEGORIES:Pembelajaran Bahasa Inggris
ATTACH;FMTTYPE=image/jpeg:https://atamerica.or.id/wp-content/uploads/2024/12/17-December-Metropolitan-Toastmasters-Wish-to-Santa_Thumbnail.jpg
END:VEVENT
END:VCALENDAR