BEGIN:VCALENDAR
VERSION:2.0
PRODID:-//@america - ECPv6.11.2.1//NONSGML v1.0//EN
CALSCALE:GREGORIAN
METHOD:PUBLISH
X-WR-CALNAME:@america
X-ORIGINAL-URL:https://atamerica.or.id
X-WR-CALDESC:Events for @america
REFRESH-INTERVAL;VALUE=DURATION:PT1H
X-Robots-Tag:noindex
X-PUBLISHED-TTL:PT1H
BEGIN:VTIMEZONE
TZID:Asia/Krasnoyarsk
BEGIN:STANDARD
TZOFFSETFROM:+0700
TZOFFSETTO:+0700
TZNAME:+07
DTSTART:20250101T000000
END:STANDARD
END:VTIMEZONE
BEGIN:VEVENT
DTSTART;TZID=Asia/Krasnoyarsk:20251220T160000
DTEND;TZID=Asia/Krasnoyarsk:20251220T180000
DTSTAMP:20260422T225733
CREATED:20251215T031122Z
LAST-MODIFIED:20251215T045859Z
UID:50211-1766246400-1766253600@atamerica.or.id
SUMMARY:NYC in JKT!
DESCRIPTION:
URL:https://atamerica.or.id/event/nyc-in-jkt/
LOCATION:@america\, Pacific Place\, @america\, Pacific Place Mall 3rd Floor Jakarta Selatan
CATEGORIES:Music, Arts, and Culture
ATTACH;FMTTYPE=image/jpeg:https://atamerica.or.id/wp-content/uploads/2025/12/20-December-NYC-in-JKT_Thumbnail.jpg
END:VEVENT
END:VCALENDAR