BEGIN:VCALENDAR
VERSION:2.0
PRODID:-//@america - ECPv6.11.2.1//NONSGML v1.0//EN
CALSCALE:GREGORIAN
METHOD:PUBLISH
X-WR-CALNAME:@america
X-ORIGINAL-URL:https://atamerica.or.id
X-WR-CALDESC:Events for @america
REFRESH-INTERVAL;VALUE=DURATION:PT1H
X-Robots-Tag:noindex
X-PUBLISHED-TTL:PT1H
BEGIN:VTIMEZONE
TZID:Asia/Krasnoyarsk
BEGIN:STANDARD
TZOFFSETFROM:+0700
TZOFFSETTO:+0700
TZNAME:+07
DTSTART:20250101T000000
END:STANDARD
END:VTIMEZONE
BEGIN:VEVENT
DTSTART;TZID=Asia/Krasnoyarsk:20250314T190000
DTEND;TZID=Asia/Krasnoyarsk:20250314T203000
DTSTAMP:20260424T065048
CREATED:20250224T031057Z
LAST-MODIFIED:20250224T031057Z
UID:22705-1741978800-1741984200@atamerica.or.id
SUMMARY:Speech Contest: Stay Curious\, Stay Creative!
DESCRIPTION:
URL:https://atamerica.or.id/event/speech-contest-stay-curious-stay-creative-2/
LOCATION:@america\, Pacific Place\, @america\, Pacific Place Mall 3rd Floor Jakarta Selatan
CATEGORIES:Pembelajaran Bahasa Inggris
ATTACH;FMTTYPE=image/jpeg:https://atamerica.or.id/wp-content/uploads/2025/02/14-March-Speech-Contest-Stay-Curious-Stay-Creative_Thumbnail.jpg
END:VEVENT
END:VCALENDAR