BEGIN:VCALENDAR
VERSION:2.0
PRODID:-//@america - ECPv6.11.2.1//NONSGML v1.0//EN
CALSCALE:GREGORIAN
METHOD:PUBLISH
X-WR-CALNAME:@america
X-ORIGINAL-URL:https://atamerica.or.id
X-WR-CALDESC:Events for @america
REFRESH-INTERVAL;VALUE=DURATION:PT1H
X-Robots-Tag:noindex
X-PUBLISHED-TTL:PT1H
BEGIN:VTIMEZONE
TZID:Asia/Krasnoyarsk
BEGIN:STANDARD
TZOFFSETFROM:+0700
TZOFFSETTO:+0700
TZNAME:+07
DTSTART:20260101T000000
END:STANDARD
END:VTIMEZONE
BEGIN:VEVENT
DTSTART;TZID=Asia/Krasnoyarsk:20260313T191500
DTEND;TZID=Asia/Krasnoyarsk:20260313T204500
DTSTAMP:20260422T230503
CREATED:20260224T081936Z
LAST-MODIFIED:20260306T060829Z
UID:58693-1773429300-1773434700@atamerica.or.id
SUMMARY:Strength@america with GARMIN G/R/C (Session 7)
DESCRIPTION:
URL:https://atamerica.or.id/event/strengthamerica-with-garmin-g-r-c-session-7/
LOCATION:@america\, Pacific Place\, @america\, Pacific Place Mall 3rd Floor Jakarta Selatan
CATEGORIES:Music, Arts, and Culture
ATTACH;FMTTYPE=image/jpeg:https://atamerica.or.id/wp-content/uploads/2026/02/13-March-Strength-@america-with-GRC_Thumbnail-1.jpg
END:VEVENT
END:VCALENDAR