BEGIN:VCALENDAR
VERSION:2.0
PRODID:-//@america - ECPv6.11.2.1//NONSGML v1.0//EN
CALSCALE:GREGORIAN
METHOD:PUBLISH
X-WR-CALNAME:@america
X-ORIGINAL-URL:https://atamerica.or.id
X-WR-CALDESC:Events for @america
REFRESH-INTERVAL;VALUE=DURATION:PT1H
X-Robots-Tag:noindex
X-PUBLISHED-TTL:PT1H
BEGIN:VTIMEZONE
TZID:Asia/Krasnoyarsk
BEGIN:STANDARD
TZOFFSETFROM:+0700
TZOFFSETTO:+0700
TZNAME:+07
DTSTART:20240101T000000
END:STANDARD
END:VTIMEZONE
BEGIN:VEVENT
DTSTART;TZID=Asia/Krasnoyarsk:20240919T160000
DTEND;TZID=Asia/Krasnoyarsk:20240919T170000
DTSTAMP:20260424T043456
CREATED:20240917T065933Z
LAST-MODIFIED:20240917T070333Z
UID:12213-1726761600-1726765200@atamerica.or.id
SUMMARY:StudyPods with EdUSA Advisers: Exploring the Fair\, One Booth at a Time
DESCRIPTION:
URL:https://atamerica.or.id/event/studypods-with-edusa-advisers-exploring-the-fair-one-booth-at-a-time/
LOCATION:@america\, Pacific Place\, @america\, Pacific Place Mall 3rd Floor Jakarta Selatan
CATEGORIES:Study in the U.S., Educational Exchanges and Scholarships
ATTACH;FMTTYPE=image/jpeg:https://atamerica.or.id/wp-content/uploads/2024/09/19-September-StudyPods-with-EdUSA-Advisers-Exploring-the-Fair-One-Booth-at-a-Time_Thumbnail.jpg
END:VEVENT
END:VCALENDAR