BEGIN:VCALENDAR
VERSION:2.0
PRODID:-//@america - ECPv6.11.2.1//NONSGML v1.0//EN
CALSCALE:GREGORIAN
METHOD:PUBLISH
X-WR-CALNAME:@america
X-ORIGINAL-URL:https://atamerica.or.id
X-WR-CALDESC:Events for @america
REFRESH-INTERVAL;VALUE=DURATION:PT1H
X-Robots-Tag:noindex
X-PUBLISHED-TTL:PT1H
BEGIN:VTIMEZONE
TZID:Asia/Krasnoyarsk
BEGIN:STANDARD
TZOFFSETFROM:+0700
TZOFFSETTO:+0700
TZNAME:+07
DTSTART:20250101T000000
END:STANDARD
END:VTIMEZONE
BEGIN:VEVENT
DTSTART;TZID=Asia/Krasnoyarsk:20250524T133000
DTEND;TZID=Asia/Krasnoyarsk:20250524T150000
DTSTAMP:20260425T000739
CREATED:20250422T031603Z
LAST-MODIFIED:20250515T064246Z
UID:27858-1748093400-1748098800@atamerica.or.id
SUMMARY:Swift@america: Exploring XR on VisionOS
DESCRIPTION:
URL:https://atamerica.or.id/event/swiftamerica-exploring-extended-reality-2/
LOCATION:@america\, Pacific Place\, @america\, Pacific Place Mall 3rd Floor Jakarta Selatan
CATEGORIES:Ilmu Pengetahuan dan Teknologi
ATTACH;FMTTYPE=image/jpeg:https://atamerica.or.id/wp-content/uploads/2025/04/17-May-Swift@america-Exploring-Extended-Reality_Thumbnail-1.jpg
END:VEVENT
END:VCALENDAR