BEGIN:VCALENDAR
VERSION:2.0
PRODID:-//@america - ECPv6.11.2.1//NONSGML v1.0//EN
CALSCALE:GREGORIAN
METHOD:PUBLISH
X-WR-CALNAME:@america
X-ORIGINAL-URL:https://atamerica.or.id
X-WR-CALDESC:Events for @america
REFRESH-INTERVAL;VALUE=DURATION:PT1H
X-Robots-Tag:noindex
X-PUBLISHED-TTL:PT1H
BEGIN:VTIMEZONE
TZID:Asia/Krasnoyarsk
BEGIN:STANDARD
TZOFFSETFROM:+0700
TZOFFSETTO:+0700
TZNAME:+07
DTSTART:20250101T000000
END:STANDARD
END:VTIMEZONE
BEGIN:VEVENT
DTSTART;TZID=Asia/Krasnoyarsk:20250925T160000
DTEND;TZID=Asia/Krasnoyarsk:20250925T170000
DTSTAMP:20260423T213920
CREATED:20250903T113333Z
LAST-MODIFIED:20250903T113639Z
UID:39691-1758816000-1758819600@atamerica.or.id
SUMMARY:Unlock Your Future: Applying to U.S. MPA Programs
DESCRIPTION:
URL:https://atamerica.or.id/event/unlock-your-future-applying-to-u-s-mpa-programs/
LOCATION:@america\, Pacific Place\, @america\, Pacific Place Mall 3rd Floor Jakarta Selatan
CATEGORIES:Study in the U.S., Educational Exchanges and Scholarships
ATTACH;FMTTYPE=image/jpeg:https://atamerica.or.id/wp-content/uploads/2025/09/25-September-Unlock-Your-Future-Applying-to-US-MPA-Programs_Thumbnail.jpg
END:VEVENT
END:VCALENDAR