BEGIN:VCALENDAR
VERSION:2.0
PRODID:-//@america - ECPv6.11.2.1//NONSGML v1.0//EN
CALSCALE:GREGORIAN
METHOD:PUBLISH
X-WR-CALNAME:@america
X-ORIGINAL-URL:https://atamerica.or.id
X-WR-CALDESC:Events for @america
REFRESH-INTERVAL;VALUE=DURATION:PT1H
X-Robots-Tag:noindex
X-PUBLISHED-TTL:PT1H
BEGIN:VTIMEZONE
TZID:Asia/Krasnoyarsk
BEGIN:STANDARD
TZOFFSETFROM:+0700
TZOFFSETTO:+0700
TZNAME:+07
DTSTART:20240101T000000
END:STANDARD
END:VTIMEZONE
BEGIN:VEVENT
DTSTART;TZID=Asia/Krasnoyarsk:20240920T143000
DTEND;TZID=Asia/Krasnoyarsk:20240920T183000
DTSTAMP:20260424T082304
CREATED:20240917T063556Z
LAST-MODIFIED:20240924T064846Z
UID:12205-1726842600-1726857000@atamerica.or.id
SUMMARY:USAID Internship & Career Fair 2024: Enhancing Skills for Career Success
DESCRIPTION:
URL:https://atamerica.or.id/event/usaid-internship-career-fair-2024-enhancing-skills-for-career-success/
LOCATION:@america\, Pacific Place\, @america\, Pacific Place Mall 3rd Floor Jakarta Selatan
CATEGORIES:Business and Career Skills
ATTACH;FMTTYPE=image/jpeg:https://atamerica.or.id/wp-content/uploads/2024/09/20-September-USAID-Internship-Career-Fair-2024-Enhancing-Skills-for-Career-Success_Thumbnail.jpg
END:VEVENT
END:VCALENDAR