BEGIN:VCALENDAR
VERSION:2.0
PRODID:-//@america - ECPv6.11.2.1//NONSGML v1.0//EN
CALSCALE:GREGORIAN
METHOD:PUBLISH
X-WR-CALNAME:@america
X-ORIGINAL-URL:https://atamerica.or.id
X-WR-CALDESC:Events for @america
REFRESH-INTERVAL;VALUE=DURATION:PT1H
X-Robots-Tag:noindex
X-PUBLISHED-TTL:PT1H
BEGIN:VTIMEZONE
TZID:Asia/Krasnoyarsk
BEGIN:STANDARD
TZOFFSETFROM:+0700
TZOFFSETTO:+0700
TZNAME:+07
DTSTART:20260101T000000
END:STANDARD
END:VTIMEZONE
BEGIN:VEVENT
DTSTART;TZID=Asia/Krasnoyarsk:20260425T103000
DTEND;TZID=Asia/Krasnoyarsk:20260425T120000
DTSTAMP:20260425T014606
CREATED:20260407T120017Z
LAST-MODIFIED:20260407T123436Z
UID:10001341-1777113000-1777118400@atamerica.or.id
SUMMARY:Master the GRE Expert Tips and Strategies
DESCRIPTION:
URL:https://atamerica.or.id/event/master-the-gre-expert-tips-and-strategies-3/
LOCATION:@america\, Pacific Place\, @america\, Pacific Place Mall 3rd Floor Jakarta Selatan
CATEGORIES:Business and Career Skills
ATTACH;FMTTYPE=image/jpeg:https://atamerica.or.id/wp-content/uploads/2026/04/25-April-Master-the-GRE-Expert-Tips-and-Strategies_Thumbnail-1-1.jpg
END:VEVENT
BEGIN:VEVENT
DTSTART;TZID=Asia/Krasnoyarsk:20260425T103000
DTEND;TZID=Asia/Krasnoyarsk:20260425T120000
DTSTAMP:20260425T014606
CREATED:20260407T123328Z
LAST-MODIFIED:20260407T123328Z
UID:10001342-1777113000-1777118400@atamerica.or.id
SUMMARY:Master the GRE Expert Tips and Strategies
DESCRIPTION:
URL:https://atamerica.or.id/event/master-the-gre-expert-tips-and-strategies-4/
LOCATION:@america\, Pacific Place\, @america\, Pacific Place Mall 3rd Floor Jakarta Selatan
CATEGORIES:Keterampilan Bisnis dan Karir
ATTACH;FMTTYPE=image/jpeg:https://atamerica.or.id/wp-content/uploads/2026/04/25-April-Master-the-GRE-Expert-Tips-and-Strategies_Thumbnail-1-1.jpg
END:VEVENT
BEGIN:VEVENT
DTSTART;TZID=Asia/Krasnoyarsk:20260425T103000
DTEND;TZID=Asia/Krasnoyarsk:20260425T120000
DTSTAMP:20260425T014606
CREATED:20260423T070216Z
LAST-MODIFIED:20260424T094239Z
UID:10001369-1777113000-1777118400@atamerica.or.id
SUMMARY:Coffee Chats with @america
DESCRIPTION:
URL:https://atamerica.or.id/event/coffee-chats-with-america-42/
LOCATION:@america\, Pacific Place\, @america\, Pacific Place Mall 3rd Floor Jakarta Selatan
CATEGORIES:English Language Learning
ATTACH;FMTTYPE=image/jpeg:https://atamerica.or.id/wp-content/uploads/2026/04/25-April-Coffee-Chats-with-@america_Thumbnail.jpg
END:VEVENT
BEGIN:VEVENT
DTSTART;TZID=Asia/Krasnoyarsk:20260425T103000
DTEND;TZID=Asia/Krasnoyarsk:20260425T120000
DTSTAMP:20260425T014606
CREATED:20260423T070338Z
LAST-MODIFIED:20260424T094252Z
UID:10001370-1777113000-1777118400@atamerica.or.id
SUMMARY:Coffee Chats with @america
DESCRIPTION:
URL:https://atamerica.or.id/event/coffee-chats-with-america-43/
LOCATION:@america\, Pacific Place\, @america\, Pacific Place Mall 3rd Floor Jakarta Selatan
CATEGORIES:Pembelajaran Bahasa Inggris
ATTACH;FMTTYPE=image/jpeg:https://atamerica.or.id/wp-content/uploads/2026/04/25-April-Coffee-Chats-with-@america_Thumbnail.jpg
END:VEVENT
BEGIN:VEVENT
DTSTART;TZID=Asia/Krasnoyarsk:20260425T130000
DTEND;TZID=Asia/Krasnoyarsk:20260425T150000
DTSTAMP:20260425T014606
CREATED:20260331T080745Z
LAST-MODIFIED:20260331T082436Z
UID:10001330-1777122000-1777129200@atamerica.or.id
SUMMARY:@america Speech Contest: From Imagination to Innovation!
DESCRIPTION:
URL:https://atamerica.or.id/event/america-speech-contest-from-imagination-to-innovation/
LOCATION:@america\, Pacific Place\, @america\, Pacific Place Mall 3rd Floor Jakarta Selatan
CATEGORIES:English Language Learning
ATTACH;FMTTYPE=image/jpeg:https://atamerica.or.id/wp-content/uploads/2026/03/25-April-@america-Speech-Contest-From-Imagination-to-Innovation_Thumbnail.jpg
END:VEVENT
BEGIN:VEVENT
DTSTART;TZID=Asia/Krasnoyarsk:20260425T130000
DTEND;TZID=Asia/Krasnoyarsk:20260425T150000
DTSTAMP:20260425T014606
CREATED:20260331T080921Z
LAST-MODIFIED:20260331T080921Z
UID:10001331-1777122000-1777129200@atamerica.or.id
SUMMARY:@america Speech Contest: From Imagination to Innovation!
DESCRIPTION:
URL:https://atamerica.or.id/event/america-speech-contest-from-imagination-to-innovation-2/
LOCATION:@america\, Pacific Place\, @america\, Pacific Place Mall 3rd Floor Jakarta Selatan
CATEGORIES:Pembelajaran Bahasa Inggris
ATTACH;FMTTYPE=image/jpeg:https://atamerica.or.id/wp-content/uploads/2026/03/25-April-@america-Speech-Contest-From-Imagination-to-Innovation_Thumbnail.jpg
END:VEVENT
BEGIN:VEVENT
DTSTART;TZID=Asia/Krasnoyarsk:20260425T183000
DTEND;TZID=Asia/Krasnoyarsk:20260425T203000
DTSTAMP:20260425T014606
CREATED:20260421T125133Z
LAST-MODIFIED:20260424T084428Z
UID:10001363-1777141800-1777149000@atamerica.or.id
SUMMARY:Create Your Own American Movie-Inspired Figurines with Bartega!
DESCRIPTION:
URL:https://atamerica.or.id/event/create-your-own-american-movie-inspired-figurines-with-bartega/
CATEGORIES:Business and Career Skills
ATTACH;FMTTYPE=image/jpeg:https://atamerica.or.id/wp-content/uploads/2026/04/25-April-Create-Your-Own-American-MovieInspired-Figurines-with-Bartega_Thumbnail.jpg
END:VEVENT
BEGIN:VEVENT
DTSTART;TZID=Asia/Krasnoyarsk:20260425T183000
DTEND;TZID=Asia/Krasnoyarsk:20260425T203000
DTSTAMP:20260425T014606
CREATED:20260421T125323Z
LAST-MODIFIED:20260424T084448Z
UID:10001364-1777141800-1777149000@atamerica.or.id
SUMMARY:Create Your Own American Movie-Inspired Figurines with Bartega!
DESCRIPTION:
URL:https://atamerica.or.id/event/create-your-own-american-movie-inspired-figurines-with-bartega-2/
CATEGORIES:Keterampilan Bisnis dan Karir
ATTACH;FMTTYPE=image/jpeg:https://atamerica.or.id/wp-content/uploads/2026/04/25-April-Create-Your-Own-American-MovieInspired-Figurines-with-Bartega_Thumbnail.jpg
END:VEVENT
END:VCALENDAR